{"text_format":"1","workbook":"xlsx","n_sheets":3,"sheets":["Tabelle1","Tabelle2","Tabelle3"],"not_rendered":{"charts":5,"images":3,"macros":1,"external_links":0,"defined_names":0,"comments":0,"pivot_tables":0},"unopened":[],"bounds":{"document_bytes":16777216,"sheet_cells":100000,"rows_first":2000,"rows_last":500,"rows_between":2000,"halvings":0,"cell_chars":16384,"cell_head_chars":4096},"cells_cut":0,"cells_raw":0,"read":"whole","date_system":"1900"}

{"sheet":"Tabelle1","index":0,"n_rows":41,"n_cols":21,"rows_kept":41,"cut":false,"hidden":false,"merged":[[26,3,26,4],[17,3,17,4]]}
[]
[null,"STERNZEIT-UHR",null,null,null,null,"Welche Sterne stehen gerade im Süden? ",null,null,null,"In welchem Sternbild steht die Sonne?",null,null,null,null,null,null,null,null,"Ingo Mennerich 0318"]
[null,null,null,null,null,null,null,null,null,null,null,null,null,null,null,null,null,null,null,"Überabeitet: 0718"]
[]
[]
[null,"DATUM",null,null,"2018-07-16",null,null,null,null,null,null,null,null,null,null,null,null,null,null,null,{"$f":"E20","v":1.1689765363298066}]
[]
[null,"UHRZEIT",null,null,"08:51:22",null,null,null,null,null,null,null,null,null,null,null,null,null,null,null,{"$f":"E34","v":"11:17:13.904"}]
[]
[null,"UTC = MEZ - 1h, MESZ -2h",null,null,-2]
[]
[null,"GEOGRAFISCHE LÄNGE",null,null,9,"°"]
[]
[null,null,null,null,44,"´"]
[]
[]
[]
[null,"GEWÄHLTE  ZEIT",null,{"$f":"Tabelle2!F29","v":"2018-07-16T08:51:22"}]
[]
[null,"STERNZEIT, lokal  (LST)",null,null,{"$f":"Tabelle2!F44","v":1.1689765363298066}]
[]
[null,"STERNZEIT, Greenwich (GMST)",null,null,{"$f":"Tabelle2!F42","v":1.1419394992927696}]
[]
[]
[]
[]
[null,"SYSTEMZEIT (Computer)",null,{"$f":"Tabelle2!F56","v":"2018-07-16T15:01:20.420"}]
[]
[null,"DATUM",null,null,{"$f":"Tabelle2!B56","v":"2018-07-16T15:01:20.420"}]
[]
[null,"UHRZEIT",null,null,{"$f":"Tabelle2!D56","v":43297.625930787035}]
[]
[]
[null,"STERNZEIT, lokal  (LST)",null,null,{"$f":"Tabelle2!F71","v":"11:17:13.904"}]
[]
[null,"STERNZEIT, Greenwich (GMST)",null,null,{"$f":"Tabelle2!F69","v":"10:38:17.904"}]
[]
[]
[]
[null,null,"Lokale Sternzeit, berechnet auf der Grundlage der eingebenen Zeit bzw.  der Systemzeit Ihres Computers und der örtlichen geografischen Länge."]
[null,null,"Lokale Sternzeit = Rektaszension des zu diesem Zeitpunkt im Meridian (Süden) stehenden Sterns. Beispiel: Orion steht bei Sternzeit 5 h  im Süden. "]

{"sheet":"Tabelle2","index":1,"n_rows":85,"n_cols":13,"rows_kept":85,"cut":false,"hidden":false,"merged":[[13,1,13,2]]}
["STERNZEIT_RECHNER "]
["Local Sideral Time (LST) und Greenwich Mean Sideral Time (GMST)"]
[]
["Ortsmeridian",null,null,null,null,null,null,"Sternzeit (Lokal)"]
[{"$f":"Tabelle1!E12","v":9},"°",{"$f":"Tabelle1!E14","v":44},"´",{"$f":"A5+C5/60","v":9.7333333333333325},null,null,"Nach eingebener Zeit:",null,{"$f":"IF(J9>24,J9-24,J9)","v":4.055436871915358},0]
[null,null,null,null,null,null,null,"Nach Systemzeit:",null,{"$f":"IF(J10>24,J10-24,J10)","v":11.28719544917068},0]
["Differenz zu GMT",null,null,{"$f":"E5/15","v":0.64888888888888885},{"$f":"D7/24","v":"00:38:56"},"h"]
[]
["UHR EINSTELLEN",null,null,null,null,null,null,null,null,{"$f":"F44*24","v":28.055436871915358}]
["STARTZEIT: ","NULLMERIDIANDURCHGANG DES FRÜHLINGSPUNKTES ",null,null,null,null,null,null,null,{"$f":"F71*24","v":11.28719544917068}]
[null,"ZUR FRÜHJAHRS-TAGUNDNACHTGLEICHE IN GREENWICH"]
[]
[null,"Sternzeit Greenwich Mean Sideral Time",null,null,"2018-03-20","12:07:00"]
[null,{"$f":"E13+F13","v":"2018-03-20T12:07:00"},null,null,"(12 h + 7min Zeitgleichung)"]
[]
["UMRECHNUNG SONNENTAG STERNTAG"]
[]
[null,"Sterntag=",{"$f":"H18","v":23.934469200524248},"Sonnentage",null,"365,44/366,44*24=",null,{"$f":"365.24/366.24*24","v":23.934469200524248}]
[]
[null,"Dtag",{"$f":"24-C18","v":6.5530799475752133E-2},"Tage"]
[]
[null,null,{"$f":"C20/24","v":2.7304499781563387E-3},"pro Tag"]
[]
[]
[]
[]
["DATUM und ZEIT (MEZ)"]
[]
[null,{"$f":"Tabelle1!E6","v":"2018-07-16"},null,{"$f":"Tabelle1!E8","v":"08:51:22"},null,{"$f":"B29+D29","v":"2018-07-16T08:51:22"},"MEZ"]
[]
[null,{"$f":"B29","v":"2018-07-16"},null,{"$f":"D29-1/24","v":"07:51:22"},null,{"$f":"B31+D31","v":"2018-07-16T07:51:22"},"UT"]
[]
[null,"DTage",null,{"$f":"F31-B14","v":117.82247685184848}]
[null,null,null,{"$f":"INT(D33)","v":117},"Tage",null,null,null,null,null,null,null,"h"]
[null,null,"+",{"$f":"D33-D34","v":0.82247685184847796},"Tage =",{"$f":"D35*24","v":19.739444444363471},"h"]
[]
[null,"Seit Meridiandurchgang des Frühlingspunktes am ",null,null,{"$f":"E13","v":"2018-03-20"},"vergangen:"]
[]
[null,null,{"$f":"D34","v":117},"Tage",{"$f":"F35/24","v":"19:44:22"},"Stunden"]
[]
[null,null,null,{"$f":"C20*D34+D35*24","v":27.406547983026471}]
[null,null,null,"Sternzeit Greenwich (GMST)",null,{"$f":"IF(D41<0,(24-D41*-1)/24,D41/24)","v":1.1419394992927696},null,null,{"$f":"D41/24","v":1.1419394992927696}]
[null,null,null,{"$f":"C20*D34+D35*24+D7","v":28.055436871915358}]
[null,null,null,"Lokale Sternzeit (LST)",null,{"$f":"IF(D43<0,(24-D43*-1)/24,D43/24)","v":1.1689765363298066},null,null,{"$f":"IF(D43<0,(24-D43*-1)/24,D43/24)","v":1.1689765363298066}]
[]
[]
[]
[]
[]
[]
[]
[]
[]
["SYSTEMZEIT"]
[]
[null,{"$f":"D56","v":"2018-07-16T15:01:20.420"},null,{"$f":"F56","v":43297.625930787035},null,{"$f":"NOW()+Tabelle1!E10/24","v":"2018-07-16T15:01:20.420"}]
[]
[null,{"$f":"B56","v":"2018-07-16T15:01:20.420"},null,{"$f":"F58","v":43297.625930787035},null,{"$f":"NOW()+Tabelle1!E10/24","v":"2018-07-16T15:01:20.420"}]
[]
[null,"DTage",null,{"$f":"F58-B14","v":118.12106967592263}]
[null,null,null,{"$f":"INT(D60)","v":118},"Tage"]
[null,null,"+",{"$f":"D60-D61","v":0.12106967592262663},"Tage =",{"$f":"D62*24","v":2.9056722221430391},"Stunden"]
[]
[null,"Seit Meridiandurchgang der Sonne am ",null,null,{"$f":"E13","v":"2018-03-20"},"vergangen:"]
[]
[null,null,{"$f":"D61","v":118},"Tage",{"$f":"F62/24","v":"02:54:20.420"},"Stunden"]
[]
[null,null,null,{"$f":"$C$20*D61+D62*24","v":10.638306560281791}]
[null,null,null,"Sternzeit Greenwich (GMST)",null,{"$f":"IF(D68<0,(24-D68*-1)/24,D68/24)","v":"10:38:17.904"}]
[null,null,null,{"$f":"$C$20*D61+D62*24+D7","v":11.28719544917068}]
[null,null,null,"Lokale Sternzeit (LST)",null,{"$f":"IF(D70<0,(24-D70*-1)/24,D70/24)","v":"11:17:13.904"}]
[]
[]
[]
[]
[]
[]
[]
[]
[null,"2018-03-20",null,null,6.55303E-2,"pro Tag","X",{"$f":"C83","v":118},"Tage = ",{"$f":"E80*C83","v":7.7325754}]
[null,null,null,null,null,null,null,{"$f":"IF(C85<0,C85+365,C85)","v":118},"Tage = ",{"$f":"E80*H81","v":7.7325754}]
[]
["Datum Input",{"$f":"Tabelle1!E6","v":"2018-07-16"},{"$f":"B83-B80","v":118},"Tage","Rektaszension",null,{"$f":"J81","v":7.7325754},{"$f":"IF(J80<0,24+J80,J80)","v":7.7325754},0]
[null,null,null,null,"Deklination",null,{"$f":" 23.43472*SIN(RADIANS(360*(C85)/365.24))","v":21.007624225861235},{"$f":" 23.43472*SIN(RADIANS(360*(C83)/365.24))","v":21.007624225861235},0]
["Systemzeit",{"$f":"Tabelle1!E29","v":"2018-07-16T15:01:20.420"},{"$f":"D61","v":118},"Tage"]

{"sheet":"Tabelle3","index":2,"n_rows":0,"n_cols":0,"rows_kept":0,"cut":false,"hidden":false,"merged":[]}