{"text_format":"1","workbook":"xlsx","n_sheets":3,"sheets":["Tabelle1","Tabelle2","Tabelle3"],"not_rendered":{"charts":5,"images":5,"macros":1,"external_links":0,"defined_names":0,"comments":0,"pivot_tables":0},"unopened":[],"bounds":{"document_bytes":16777216,"sheet_cells":100000,"rows_first":2000,"rows_last":500,"rows_between":2000,"halvings":0,"cell_chars":16384,"cell_head_chars":4096},"cells_cut":0,"cells_raw":0,"read":"whole","date_system":"1900"}

{"sheet":"Tabelle1","index":0,"n_rows":117,"n_cols":20,"rows_kept":117,"cut":false,"hidden":false,"merged":[[7,13,7,14],[34,37,34,41],[21,1,22,1],[21,2,22,2],[22,37,22,41],[27,37,27,41],[8,13,8,14]]}
[]
[null,"Wie spät ist es wirklich?"]
[null,null,null,null,null,null,null,"´´ "]
[null,"Weltzeit (UTC)",-2,"h","UTC: MEZ = Systemzeit- 1 h, MESZ = Systemzeit - 2 h"]
[]
[null,"Zeitzone",2,"h","z.B. Deutschland UTC + 1 h (MEZ) oder UTC +2h (MESZ)"]
[]
[null,"Länge",9,"°",44,"´",0,"´´ ",{"$f":"IF(C8>0,C8+E8/60+G8/3600,C8-E8/60-G8/3600)","v":9.7333333333333325},null,null,"Systemzeit",null,"14.07.2019 11:38:57"]
[null,null,null,null,null,null,null,null,null,null,null,"UTC",null,{"$f":"N8+$C$4/24","v":"2019-07-14T09:38:57"}]
[null,"Breite",52,"°",22,"´",40,null,{"$f":"IF(C10>0,C10+E10/60+G10/3600,C10-E10/60-G10/3600)","v":52.37777777777778},null,null,null,null,null,null,null,"Ingo Mennerich, Februar 2019 (Version Juli 19)"]
[]
[]
[]
[null,"UTC / GMT",null,null,"Zonenzeit",null,null,null,"MOZ",null,null,"WOZ ",null,null,null,null,"Sternzeit (ST)"]
[null,"Weltzeit",null,null,"(MEZ=UTC+1h, MESZ=UTC+2h)",null,null,null,"Mittlere Ortszeit",null,null,"Wahre Ortszeit = Wahre Sonnenzeit",null,null,null,null,"Die Sternzeit (ST) ist identisch mit der Rektas-"]
[null,"Mittlere Ortszeit in Greenwich",null,null,"Gesetzliche Zeit bezogen auf UTC.",null,null,null,"bezogen auf den Null-",null,null,"Zeitgleichung (min)",null,{"$f":"Tabelle3!E97","v":-5.8672526585257554},null,null,"zension (R.A.) des Himmelskörpers der aktuell "]
[null,"(London)",null,null,"Jede Zeitzone umfasst idealer-",null,null,null,"meridian und abhängig von",null,null,"Meridiandurchgang",null,{"$f":"Tabelle3!E117","v":"12:26:56.035"},null,null,"durch den Meridian geht (auf der Nordhalbkugel"]
[null,null,null,null,"weise 15° Längengrade.",null,null,null,"der geographischen Länge",null,null,"Sonnenaufgang",null,{"$f":"Tabelle3!E121","v":"04:18:49.227"},null,null,"im Süden). Beispiel: Der Stern Sirius (R.A. 06 h"]
[null,null,null,null,null,null,null,null,"des Ortes (1 h ≙ 15°)",null,null,"Sonnenuntergang",null,{"$f":"Tabelle3!E126","v":"20:35:02.843"},null,null,"45 min) steht um 06 h 45 min ST im Süden."]
[]
[null,"UTC/GMT",null,null,"MEZ/MESZ oder Zonenzeit",null,null,null,"MOZ",null,null,"WOZ",null,null,null,null,"Sternzeit"]
[]
[]
[]
[]
[]
[]
[]
[]
[]
[]
[]
[]
[null,{"$f":"B47","v":"09:38:57"},null,null,{"$f":"I47","v":"11:38:57"},null,null,null,{"$f":"B88","v":"10:17:53"},null,null,{"$f":"I88","v":"10:12:00.965"},null,null,null,null,{"$f":"Q46","v":"05:45:46.383"}]
[]
[]
[]
[]
[]
["UTC / Greenwich",null,null,null,null,null,null,"Zonenzeit",null,null,null,null,null,null,"Sternzeit"]
[]
["Zeitmakro - F5",{"$f":"N9","v":"2019-07-14T09:38:57"},null,null,null,null,null,"WOZ: UTC + L",{"$f":"B42+C6/24","v":"2019-07-14T11:38:57"},null,null,null,null,null,"UTC",null,{"$f":"N9","v":43660.402048611111}]
[]
["HEUTE()",{"$f":"TODAY()","v":"2019-07-14"},null,null,null,null,null,"HEUTE()",{"$f":"TODAY()","v":"2019-07-14"},null,null,null,null,null,"Sternzeit (GMST)",null,{"$f":"Tabelle2!T6","v":"05:06:50.383"}]
[]
[null,null,null,null,null,null,null,null,null,null,null,null,null,null,"Lokale Sternzeit (LST)",null,{"$f":"Tabelle2!Y6","v":"05:45:46.383"}]
[null,{"$f":"B42-B44","v":"09:38:57"},null,null,null,null,null,null,{"$f":"I42-I44","v":"11:38:57"}]
[null,null,null,null,null,null,null,null,null,null,null,null,null,null,null,null,{"$f":"Q46*24","v":5.7628840714963712}]
["Tagesbruchteil",{"$f":"B47","v":0.40204861111124046},null,null,null,null,null,"Tagesbruchteil",{"$f":"I47","v":0.48538194444699911}]
[null,null,null,null,null,null,null,null,null,null,null,null,null,null,"Stundenbruchteil",null,{"$f":"Q48-INT(Q48)","v":0.76288407149637116}]
["Stunden",{"$f":"B49*24","v":9.6491666666697711},null,null,null,null,null,"Stunden",{"$f":"I49*24","v":11.649166666727979}]
[null,{"$f":"IF(B51>12,B51-12,B51)","v":9.6491666666697711},null,null,null,null,null,null,{"$f":"IF(I51>12,I51-12,I51)","v":11.649166666727979},null,null,null,null,null,"Minuten",null,{"$f":"Q50*60","v":45.77304428978227}]
[]
[null,null,null,null,null,null,null,null,null,null,null,null,null,null,"Minutenbruchteil",null,{"$f":"Q52-INT(Q52)","v":0.7730442897822698}]
["Stundenbruchteil",{"$f":"B51-INT(B51)","v":0.64916666666977108},null,null,null,null,null,"Stundenbruchteil",{"$f":"I51-INT(I51)","v":0.64916666672797874}]
[null,null,null,null,null,null,null,null,null,null,null,null,null,null,"Sekunden",null,{"$f":"Q54*60","v":46.382657386936188}]
["Minuten",{"$f":"B55*60","v":38.950000000186265},null,null,null,null,null,"Minuten",{"$f":"I55*60","v":38.950000003678724}]
[]
["Minutenbruchteil",{"$f":"B57-INT(B57)","v":0.95000000018626451},null,null,null,null,null,"Minutenbruchteil",{"$f":"I57-INT(I57)","v":0.95000000367872417}]
[]
["Sekunden",{"$f":"B59*60","v":57.000000011175871},null,null,null,null,null,"Sekunden",{"$f":"I59*60","v":57.00000022072345}]
[]
[]
["Stunden (Winkel)",null,null,null,null,null,null,"Stunden (Winkel)",null,null,null,null,null,null,"Stunden (Lokale Sternzeit, Winkel)"]
[{"$f":"B52/12*360","v":289.47500000009313},0,null,"X (sin a)",{"$f":"SIN(RADIANS(A65))*0.5","v":-0.47139352603659102},0,null,{"$f":"I52/12*360","v":349.47500000183936},0,null,"X (sin a)",{"$f":"SIN(RADIANS(H65))*0.5","v":-9.133226699376025E-2},0,null,{"$f":"Q48/24*360","v":86.443261072445566},0,null,"X (sin a)",{"$f":"SIN(RADIANS(O65))*0.6","v":0.59884431228188661},0]
[360,0,null,"y (cos a)",{"$f":"COS(RADIANS(A65))*0.5","v":0.16669776126508054},0,null,360,0,null,"y (cos a)",{"$f":"COS(RADIANS(H65))*0.5","v":0.4915876493625328},0,null,360,0,null,"y (cos a)",{"$f":"COS(RADIANS(O65))*0.6","v":3.7222166079290256E-2},0]
[]
[]
["Minuten (Winkel)",null,null,null,null,null,null,"Minuten (Winkel)",null,null,null,null,null,null,"Minuten (Lokale Sternzeit, Winkel)"]
[{"$f":"B55*360","v":233.70000000111759},360,null,"X (sin a)",{"$f":"SIN(RADIANS(A70))*0.9","v":-0.72533545403405697},0,null,{"$f":"I55*360","v":233.70000002207235},360,null,"X (sin a)",{"$f":"SIN(RADIANS(H70))*0.9","v":-0.72533545422892209},0,null,{"$f":"Q52/60*360","v":274.63826573869363},360,null,"X (sin a)",{"$f":"SIN(RADIANS(O70))*1","v":-0.99672509425333478},0]
[0,0,null,"y (cos a)",{"$f":"COS(RADIANS(A70))*0.9","v":-0.53281186090514965},0,null,0,0,null,"y (cos a)",{"$f":"COS(RADIANS(H70))*0.9","v":-0.53281186063987296},0,null,0,0,null,"y (cos a)",{"$f":"COS(RADIANS(O70))*1","v":8.0864618255952245E-2},0]
[]
[]
["Sekunden (Winkel)",null,null,null,null,null,null,"Sekunden (Winkel)",null,null,null,null,null,null,"Sekunden (Lokale Sternzeit, Winkel)"]
[{"$f":"B59*360","v":342.00000006705523},360,null,"X (sin a)",{"$f":"SIN(RADIANS(A75))*0.9","v":-0.27811529393570367},0,null,{"$f":"I59*360","v":342.0000013243407},360,null,"X (sin a)",{"$f":"SIN(RADIANS(H75))*0.9","v":-0.27811527515291368},0,null,{"$f":"Q56/60*360","v":278.29594432161713},360,null,"X (sin a)",{"$f":"SIN(RADIANS(O75))*1","v":-0.98953600483514481},0]
[0,0,null,"y (cos a)",{"$f":"COS(RADIANS(A75))*0.9","v":0.85595086499112627},0,null,0,0,null,"y (cos a)",{"$f":"COS(RADIANS(H75))*0.9","v":0.85595087109402446},0,null,0,0,null,"y (cos a)",{"$f":"COS(RADIANS(O75))*1","v":0.14428615711460396},0]
[]
[]
[]
[]
["Mittlere Ortszeit (MOZ)",null,null,null,null,null,null,"Wahre Ortszeit (WOZ)"]
[]
["UTC + Länge",{"$f":"B42+I8/15/24","v":"2019-07-14T10:17:53"},null,null,null,null,null,"MOZ + Zeitgleichung",{"$f":"B42+I8/15/24+N16/60/24","v":"2019-07-14T10:12:00.965"}]
[]
["HEUTE()",{"$f":"TODAY()","v":"2019-07-14"},null,null,null,null,null,"HEUTE()",{"$f":"TODAY()","v":"2019-07-14"}]
[]
[]
[null,{"$f":"B83-B85","v":"10:17:53"},null,null,null,null,null,null,{"$f":"I83-I85","v":"10:12:00.965"}]
[]
["Tagesbruchteil",{"$f":"B88","v":0.42908564814570127},null,null,null,null,null,"Tagesbruchteil",{"$f":"I88","v":0.42501116713538067}]
[]
["Stunden",{"$f":"B90*24","v":10.29805555549683},null,null,null,null,null,"Stunden",{"$f":"I90*24","v":10.200268011249136}]
[null,{"$f":"IF(B92>12,B92-12,B92)","v":10.29805555549683},null,null,null,null,null,null,{"$f":"IF(I92>12,I92-12,I92)","v":10.200268011249136}]
[]
[]
["Stundenbruchteil",{"$f":"B92-INT(B92)","v":0.29805555549683049},null,null,null,null,null,"Stundenbruchteil",{"$f":"I92-INT(I92)","v":0.20026801124913618}]
[]
["Minuten",{"$f":"B96*60","v":17.88333332980983},null,null,null,null,null,"Minuten",{"$f":"I96*60","v":12.016080674948171}]
[]
["Minutenbruchteil",{"$f":"B98-INT(B98)","v":0.88333332980982959},null,null,null,null,null,"Minutenbruchteil",{"$f":"I98-INT(I98)","v":1.6080674948170781E-2}]
[]
["Sekunden",{"$f":"B100*60","v":52.999999788589776},null,null,null,null,null,"Sekunden",{"$f":"I100*60","v":0.96484049689024687}]
[]
[]
["Stunden (Winkel)",null,null,null,null,null,null,"Stunden (Winkel)"]
[{"$f":"B93/12*360","v":308.94166666490491},0,null,"X (sin a)",{"$f":"SIN(RADIANS(A106))*0.5","v":-0.38889313758820765},0,null,{"$f":"I93/12*360","v":306.00804033747409},0,null,"X (sin a)",{"$f":"SIN(RADIANS(H106))*0.5","v":-0.40446725114610982},0]
[360,0,null,"y (cos a)",{"$f":"COS(RADIANS(A106))*0.5","v":0.31426442295748241},0,null,360,0,null,"y (cos a)",{"$f":"COS(RADIANS(H106))*0.5","v":0.29394938807609333},0]
[]
[]
["Minuten (Winkel)",null,null,null,null,null,null,"Minuten (Winkel)"]
[{"$f":"B96*360","v":107.29999997885898},360,null,"X (sin a)",{"$f":"SIN(RADIANS(A111))*0.9","v":0.85928471965127062},0,null,{"$f":"I96*360","v":72.096484049689025},360,null,"X (sin a)",{"$f":"SIN(RADIANS(H111))*0.9","v":0.85641798705912064},0]
[0,0,null,"y (cos a)",{"$f":"COS(RADIANS(A111))*0.9","v":-0.2676373863529482},0,null,0,0,null,"y (cos a)",{"$f":"COS(RADIANS(H111))*0.9","v":0.2766735105527886},0]
[]
[]
["Sekunden (Winkel)",null,null,null,null,null,null,"Sekunden (Winkel)"]
[{"$f":"B100*360","v":317.99999873153865},360,null,"X (sin a)",{"$f":"SIN(RADIANS(A116))*0.9","v":-0.60221756053009123},0,null,{"$f":"I100*360","v":5.7890429813414812},360,null,"X (sin a)",{"$f":"SIN(RADIANS(H116))*0.9","v":9.0779434449720794E-2},0]
[0,0,null,"y (cos a)",{"$f":"COS(RADIANS(A116))*0.9","v":0.66883032959726474},0,null,0,0,null,"y (cos a)",{"$f":"COS(RADIANS(H116))*0.9","v":0.89541001461955338},0]

{"sheet":"Tabelle2","index":1,"n_rows":17,"n_cols":25,"rows_kept":17,"cut":false,"hidden":false,"merged":[]}
[]
[]
[]
[]
[null,"Datum, Uhrzeit",null,"Uhrzeit","JD","Tage J2000","T",null,"JD0","T0",null,"Sternzeit GMST(0)","norm. 24h ","Sternzeit Greenwich (GMST(0))","q Greenwich (0 UTC)","Lokale Sternzeit (0)",null,"Sternzeit G","norm. 24h ","Sternzeit Greenwich (GMST)","q Greenwich",null,"HA Frühlingspunkt",null,"Lokale Sternzeit"]
[null,{"$f":"Tabelle1!Q42","v":"2019-07-14T09:38:57"},{"$f":"B6","v":43660.402048611111},{"$f":"B6-INT(B6)","v":"09:38:57"},{"$f":"2451545+B6-DATE(2000,1,1)","v":2458679.4020486111},{"$f":"E6-2451545.5","v":7133.9020486110821},{"$f":"F6/36525","v":0.19531559339113161},null,{"$f":"INT(2451545+B6-DATE(2000,1,1))","v":2458679},{"$f":"(I6-2451545.5)/36525","v":0.19530458590006844},null,{"$f":"6.697376+2400.05134*J6+1.002738*0","v":475.43840909760439},{"$f":"L6-INT(L6/24)*24","v":19.438409097604392},{"$f":"M6/24","v":"19:26:18.273"},{"$f":"M6*15","v":291.57613646406588},{"$f":"N6+Tabelle1!I8/60/24*4","v":"20:05:14.273"},null,{"$f":"6.697376+2400.05134*J6+1.002738*D6*24","v":485.11399518260748},{"$f":"R6-INT(R6/24)*24","v":5.1139951826074821},{"$f":"S6/24","v":"05:06:50.383"},{"$f":"S6*15","v":76.709927739112231},null,{"$f":"U6+Tabelle1!I8","v":86.443261072445566},{"$f":"W6/15","v":5.7628840714963712},{"$f":"X6/24","v":"05:45:46.383"}]
[]
[]
[]
[null,{"$f":"Tabelle1!Q42","v":43660.402048611111},{"$f":"B10","v":43660.402048611111},{"$f":"B10-INT(B10)","v":"09:38:57"},{"$f":"2451545+B10-DATE(2000,1,1)","v":2458679.4020486111},{"$f":"E10-2451545.5","v":7133.9020486110821},{"$f":"F10/36525","v":0.19531559339113161}]
[]
[]
[]
[null,null,"Sonne Ekliptikale Länge"]
[]
[null,null,null,"L0",null,"M","LÄNGE"]
[null,null,{"$f":"280.46+0.9856474*F6","v":7311.9720060681866},{"$f":"C17-INT(C17/360)*360","v":111.9720060681866},{"$f":"357.528+0.9856003*G6","v":357.720503107441},{"$f":"E17-INT(E17/360)*360","v":357.720503107441},{"$f":"D17+1.915*SIN(RADIANS(F17))+0.01997*SIN(RADIANS(2*F17))","v":111.89425108907298}]

{"sheet":"Tabelle3","index":2,"n_rows":129,"n_cols":14,"rows_kept":129,"cut":false,"hidden":false,"merged":[]}
["Sonne"]
[]
["DATUM",{"$f":"NOW()","v":"2019-07-14T11:39:00.540"},"UTC",null,"Sternzeit",null,{"$f":"B3","v":"2019-07-14T11:39:00.540"}]
[null,null,null,null,"Länge (Sonne)",null,{"$f":"E31","v":112.05971233241257}]
["Julianisches Datum: Anzahl seit 01.01. -4723, 00:00 UT",null,null,null,"GMST0=",{"$f":"G4/15+12","v":19.470647488827506},{"$f":"F5/24","v":"19:28:14.331"}]
[null,null,null,null,"Länge l°",null,{"$f":"Tabelle1!I8","v":9.7333333333333325}]
[null,null,null,null,"Uhrzeit (UT)",null,"00:00:00"]
[null,null,null,null,"SIDTIME",{"$f":"F5+G7*24+G6/15","v":20.119536377716393},{"$f":"F8/24","v":"20:07:10.331"}]
["T: Anzahl der seit 01.01.2000 vergangenen Jahrhunderte "]
[]
[]
[]
[]
["Julianisches Datum (JD)",null,{"$f":"2451544.5+B3-DATE(2000,1,1)+1","v":2458679.9854229167},null,"\"+1\" , Korrektur",null,"2451544,5+B3-DATUM(2000;1;1)+1",null,"2451544,5 + DATUM - DATUM(2000;1;1)"]
[]
["Differenz zu J2000",null,{"$f":"B3-DATE(2000,1,1)+1","v":7135.4854229166667},"Tage","\"+1\" , Korrektur",null,"B3-DATUM(2000;1;1)+1",null,"DATUM - DATUM(2000;1;1) +1"]
[]
["T (Jahrhunderte)",null,{"$f":"(C14-2451545)/36525","v":0.19534525456308585},null,null,null,"(C14-2451545)/36525",null,"JD-2451545)/36525"]
[]
[null,"v",null,null,{"$f":"282.9404+0.0000470935*C16","v":283.27643498276416},null,"282,9404+0,0000470935*C16",null,"Länge des Perihelions (Periapsis)"]
[]
[null,"a=",null,null,1,null,1,null,"Mittlere Distanz Erde - Somnne (1 AU)"]
[]
[null,"e=",null,null,{"$f":"0.016709-0.000000001151*C16","v":1.6700787056278223E-2},null,"0,016709-0,000000001151*C16",null,"Exzentrizität"]
[]
[null,"M=",null,null,{"$f":"356.047+0.9856002585*C16","v":7388.7832773496484},null,"356,047+0,9856002585*C16",null,"Mittlere Anomalie"]
[null,null,null,null,{"$f":"E26-INT(E26/360)*360","v":188.78327734964842},null,"E26-GANZZAHL(E26/360)*360",null,"Auf Bereich 0°-360° reduziert: M-GANZZAHL(L/360)*360"]
[]
[]
[null,"Heliozentrische Länge",null,null,{"$f":"E20+E27","v":472.05971233241257},null,"E20+E27",null,"L=v+M"]
[null,null,null,null,{"$f":"E30-INT(E30/360)*360","v":112.05971233241257},null,"E30-GANZZAHL(E30/360)*360",null,"Auf Bereich 0°-360° reduziert: L-GANZZAHL(L/360)*360"]
[]
[null,"E=",null,null,{"$f":"E27+(180/PI()*E24*SIN(RADIANS(E27))*(1+E24*COS(RADIANS(E27))))","v":188.6395751558895},null,"E27+(180/PI()*E24*SIN(BOGENMASS(E27))*(1+E24*COS(BOGENMASS(E27))))",null,"Exzentrische Anomalie"]
[]
[]
[]
[]
[null,"X",null,null,{"$f":"COS(RADIANS(E33))-E24","v":-1.0053536456790213},null,"COS(BOGENMASS(E33))-E24",null,"X=cos(E) - e"]
[]
[null,"Y",null,null,{"$f":"SIN(RADIANS(E33))*SQRT(1-E24^2)","v":-0.15019730771409939},null,"SIN(BOGENMASS(E33))*WURZEL(1-E24^2)",null,"Y=sin(E) * WURZEL(1 - e^2)"]
[]
[]
[]
[null,"Entfernung r",null,null,{"$f":"SQRT(E38^2+E40^2)","v":1.0165112808644394},null,"WURZEL(E38^2+E40^2)",null,"WURZEL(x^2+ y^2)"]
[]
[]
[]
["Wahre Anomalie"]
[null,"v=arctan2( y, x )",null,null,{"$f":"ATAN2(E40,E38)*180/PI()","v":-98.497000790512445},null,"ARCTAN2(E40;E38)*180/PI()",null,"Quadrant beachten!"]
[null,null,null,null,{"$f":"IF(ATAN2(E38,E40)*180/PI()<0,360+ATAN2(E38,E40)*180/PI(),ATAN2(E38,E40)*180/PI())","v":188.49700079051249},null,"WENN(ARCTAN2(E38;E40)*180/PI()<0;360+ARCTAN2(E38;E40)*180/PI();ARCTAN2(E38;E40)*180/PI())",null,"WENN v<0; 360 - v"]
["Ekliptikale Länge"]
[null,"Länge l",null,null,{"$f":"E20+E50","v":471.77343577327667},null,"E20+E50",null,"v+v"]
[null,null,null,null,{"$f":"E52-INT(E52/360)*360","v":111.77343577327667},null,"E52-GANZZAHL(E52/360)*360",null,"l-GANZZAHL(l/360)*360"]
[]
[]
[null,"x(Ekliptik)=",null,null,{"$f":"E44*COS(RADIANS(E53))","v":-0.37706196903204464},null,"E44*COS(BOGENMASS(E53))",null,"r*COS(l)"]
[]
[null,"y(Ekliptik)=",null,null,{"$f":"E44*SIN(RADIANS(E53))","v":0.94399123705378785},null,"E44*SIN(BOGENMASS(E53))",null,"r*SIN(l)"]
[]
[null,"z(Ekliptik)=",null,null,0,null,"0: Sonne \"läuft\" scheinbar nahezu entlang die Ekliptik",null,0]
[]
["Umwandlung Ekliptikales System - Äquatoriales System"]
[]
[null,"Schiefe der Ekliptik e",null,null,23.4406,null,23.4406]
[]
[null,"x(Äquator)=",null,null,{"$f":"E56","v":-0.37706196903204464},null,"E56",null,"x(Äquator) = x(Ekliptik)"]
[]
[null,"y(Äquator)=",null,null,{"$f":"E58*COS(RADIANS(E64))-E60*SIN(RADIANS(E64))","v":0.86608644848367244},null,"E58*COS(BOGENMASS(E64))-E60*SIN(BOGENMASS(E64))",null,"y(Ekliptik)*COS(e) - z(Ekliptik)*SIN(e)"]
[]
[null,"z(Äquator)=",null,null,{"$f":"E58*SIN(RADIANS(E64))+E60*COS(RADIANS(E64))","v":0.37551793484104007},null,"E58*SIN(BOGENMASS(E64))+E60*COS(BOGENMASS(E64))",null,"y(Ekliptik)*SIN€ + z(Ekliptik)*COS(e)"]
[]
["Geozentrische Position"]
[]
[null,"r = (Distanz Erde - Sonne)",null,null,{"$f":"SQRT(E66^2+E68^2+E70^2)","v":1.0165112808644394},null,"WURZEL(E66^2+E68^2+E70^2)",null,"WURZEL(x^2 + y^2 + z^2)"]
[]
[null,null,null,null,{"$f":"ATAN2(E66,E68)*180/PI()","v":113.52652549704401},null,"ARCTAN2(E66;E68)*180/PI()",null,"ARCTAN2(x;y)*180/PI()"]
[null,"Stundenwinkel",null,null,{"$f":"IF(E76<0,360+E76,E76)","v":113.52652549704401},null,"WENN(E76<0;360+E76;E76)",null,"WENN STUNDENWINKEL<0,360+RA"]
[null,"RA",null,null,{"$f":"E77/15","v":7.5684350331362671},null,"E77/15",null,"STUNDENWINKEL/15"]
[null,null,null,null,{"$f":"E78/24","v":"07:34:06.366"},null,"E78/24",null,"Zeitformat"]
[]
[null,"d Deklination",null,null,{"$f":"ASIN(E70/E74)*180/PI()","v":21.679750791551651},null,"ARCSIN(E70/E74)*180/PI()",null,"ARCSIN(z/r)*180/PI()"]
[]
[null,null,"Alternativ",null,{"$f":"ATAN2(E70,SQRT(E66^2+E68^2))*180/PI()","v":68.320249208448359},null,"ARCTAN2(E70;WURZEL(E66^2+E68^2))*180/PI()",null,"ARCTAN2(z;WURZEL(x^2+y^2))*180/PI()"]
[null,null,null,null,{"$f":"IF(E83>E64,90-E83,E83)","v":21.679750791551641},null,"WENN(E83>E64;90-E83;E83)",null,"WENN d > e; 90 - d"]
[]
["Geographische Länge",null,null,null,{"$f":"Tabelle1!I8","v":9.7333333333333325},null,"Tabelle1!C7"]
[]
["Geographische Breite",null,null,null,{"$f":"Tabelle1!I10","v":52.37777777777778},null,"Tabelle1!I9"]
[]
[]
["Zeitgleichung"]
[]
[null,"https://de.wikipedia.org/wiki/Zeitgleichung"]
[]
[null,"ZG*",null,null,{"$f":"ATAN((TAN(RADIANS(E31))-TAN(RADIANS(E53))*COS(RADIANS(E64)))/(1+TAN(RADIANS(E31))*TAN(RADIANS(E53))*COS(RADIANS(E64))))*180/PI()","v":-1.4668131646314388},"°","ARCTAN((TAN(BOGENMASS(E31))-TAN(BOGENMASS(E53))*COS(BOGENMASS(E64)))/(1+TAN(BOGENMASS(E31))*TAN(BOGENMASS(E53))*COS(BOGENMASS(E64))))*180/PI()"]
[null,null,null,null,null,null,"ARCTAN((TAN(BOGENMASS(HEL.LÄNGE))-TAN(BOGENMASS(EKL.LÄNGE))*COS(BOGENMASS(SCHIEFE EKL)))/(1+TAN(BOGENMASS(HEL.LÄNGE))*TAN(BOGENMASS(EKL.LÄNGE))*COS(BOGENMASS(SCHIEFE EKL))))*180/PI()"]
[null,"ZG",null,null,{"$f":"E95*4","v":-5.8672526585257554},"min","E95*4"]
[]
[]
[]
["Tageslänge, Durchgang, Aufgang und Untergang",null,null,null,null,null,{"$f":"ACOS(((SIN(RADIANS(E88))*SIN(RADIANS(E81))/(COS(RADIANS(E88))*COS(RADIANS(E81))))))*180/PI()","v":58.948992688588859},null,null,null,null,null,{"$f":"TAN(RADIANS(E88))*TAN(RADIANS(E81))","v":0.51580096007097687}]
[null,null,null,null,null,null,null,null,null,null,null,null,{"$f":"ACOS(TAN(RADIANS(E88))*TAN(RADIANS(E81)))*180/PI()","v":58.948992688588859},{"$f":"ACOS(M101)*180/PI()/12","v":4.9124160573824049}]
["astronomisch",null,null,null,{"$f":"ACOS((SIN(RADIANS(-0.833))-(SIN(RADIANS(E88))*SIN(RADIANS(E81))/(COS(RADIANS(E88))*COS(RADIANS(E81))))))*180/PI()","v":122.02836529495046},null,"ARCCOS((SIN(BOGENMASS(-0,833))-(SIN(BOGENMASS(E88))*SIN(BOGENMASS(E81))/(COS(BOGENMASS(E88))*COS(BOGENMASS(E81))))))*180/PI()"]
[null,null,null,null,{"$f":"E103/15","v":8.1352243529966977},null,"E103/15"]
[null,"Halber Tagbogen",null,{"$f":"12*ACOS((SIN(RADIANS(-0.833))-(SIN(RADIANS(E88))*SIN(RADIANS(E81))/(COS(RADIANS(E88))*COS(RADIANS(E81))))))/PI()","v":8.1352243529966977},null,null,"12*ARCCOS((SIN(BOGENMASS(-0,833))-(SIN(BOGENMASS(E88))*SIN(BOGENMASS(E81))/(COS(BOGENMASS(E88))*COS(BOGENMASS(E81))))))/PI()"]
[null,null,null,null,null,null,"12*ARCCOS((SIN(BOGENMASS(-0,833))-(SIN(BOGENMASS(BREITE))*SIN(BOGENMASS(DEKL))/(COS(BOGENMASS(BREITE))*COS(BOGENMASS(DEKL))))))/PI()"]
[null,"Tageslänge",null,{"$f":"2*D105","v":16.270448705993395},null,null,"2*D105"]
[null,null,null,null,{"$f":"D107/24","v":"16:16:13.615"},null,"D107/24"]
[]
[]
[null,"Mittag","MOZ",12,null,null,12]
[null,"Zeitgleichung (min)",null,{"$f":"E97","v":-5.8672526585257554},null,null,"E97"]
[null,null,null,{"$f":"D112/60","v":-9.7787544308762589E-2},null,null,"D112/60"]
[]
[null,"Differenz MEZ/MEZ - MOZ",null,{"$f":"(15-E86)*4/60","v":0.35111111111111115},null,null,"(15-E86)*4/60"]
[null,"Mittag MEZ",null,{"$f":"12+D115-D113","v":12.448898655419873},null,null,"12+D115-D113"]
[null,null,null,null,{"$f":"D116/24","v":"12:26:56.035"},null,"D116/24"]
[]
[]
[null,"SA","MEZ",{"$f":"D116-D105","v":4.3136743024231752},null,null,"D116-D105"]
[null,null,null,null,{"$f":"D120/24","v":"04:18:49.227"},null,"D120/24"]
[]
[null,null,null,"Azimut",{"$f":"DEGREES(ACOS((SIN(RADIANS(E81))/COS(RADIANS(E88)))))","v":52.759999216520541},null,"GRAD(ARCCOS((SIN(BOGENMASS(E81))/COS(BOGENMASS(E88)))))"]
[null,null,null,null,null,null,"GRAD(ARCCOS((SIN(BOGENMASS(DEKL))/COS(BOGENMASS(BREITE)))))"]
[null,"SU","MEZ",{"$f":"D116+D105","v":20.584123008416569},null,null,"D116+D105"]
[null,null,null,null,{"$f":"D125/24","v":"20:35:02.843"},null,"D125/24"]
[]
[null,null,null,"Azimut",{"$f":"360-DEGREES(ACOS((SIN(RADIANS(E81))/COS(RADIANS(E88)))))","v":307.24000078347945},null,"360-GRAD(ARCCOS((SIN(BOGENMASS(E81))/COS(BOGENMASS(E88)))))"]
[null,null,null,null,null,null,"360-GRAD(ARCCOS((SIN(BOGENMASS(DEKL))/COS(BOGENMASS(BREITE)))))"]